Package: miRNAtap Version: 1.38.0 Command: rm -rf miRNAtap.buildbin-libdir && mkdir miRNAtap.buildbin-libdir && /Users/biocbuild/BBS/utils/build-universal.sh miRNAtap_1.38.0.tar.gz /Library/Frameworks/R.framework/Resources/bin/R miRNAtap.buildbin-libdir StartedAt: 2024-06-11 12:05:38 -0400 (Tue, 11 Jun 2024) EndedAt: 2024-06-11 12:06:08 -0400 (Tue, 11 Jun 2024) EllapsedTime: 30.6 seconds RetCode: 0 Status: OK PackageFile: miRNAtap_1.38.0.tgz PackageFileSize: 575.7 KiB