Package: miRNAtap Version: 1.38.0 Command: /home/biocbuild/R/R-beta-2024-04-15_r86425/bin/R CMD build --keep-empty-dirs --no-resave-data miRNAtap StartedAt: 2024-05-09 01:42:39 -0000 (Thu, 09 May 2024) EndedAt: 2024-05-09 01:43:42 -0000 (Thu, 09 May 2024) EllapsedTime: 62.1 seconds RetCode: 0 Status: OK PackageFile: miRNAtap_1.38.0.tar.gz PackageFileSize: 216.2 KiB