Package: miRNAtap Version: 1.38.0 Command: chmod a+r miRNAtap -R && F:\biocbuild\bbs-3.19-bioc\R\bin\R.exe CMD build --keep-empty-dirs --no-resave-data miRNAtap StartedAt: 2024-06-26 20:06:48 -0400 (Wed, 26 Jun 2024) EndedAt: 2024-06-26 20:13:49 -0400 (Wed, 26 Jun 2024) EllapsedTime: 421.2 seconds RetCode: 0 Status: OK PackageFile: miRNAtap_1.38.0.tar.gz PackageFileSize: 101.5 KiB