Package: miRSM Version: 2.0.2 Command: rm -rf miRSM.buildbin-libdir && mkdir miRSM.buildbin-libdir && /Users/biocbuild/BBS/utils/build-universal.sh miRSM_2.0.2.tar.gz /Library/Frameworks/R.framework/Resources/bin/R miRSM.buildbin-libdir StartedAt: 2024-10-18 19:28:56 -0400 (Fri, 18 Oct 2024) EndedAt: 2024-10-18 19:30:16 -0400 (Fri, 18 Oct 2024) EllapsedTime: 80.0 seconds RetCode: 0 Status: OK PackageFile: miRSM_2.0.2.tgz PackageFileSize: 1.031 MiB