Package: miRSM Version: 2.0.2 Command: /Library/Frameworks/R.framework/Resources/bin/R CMD build --keep-empty-dirs --no-resave-data miRSM StartedAt: 2024-10-17 04:32:51 -0400 (Thu, 17 Oct 2024) EndedAt: 2024-10-17 04:34:49 -0400 (Thu, 17 Oct 2024) EllapsedTime: 117.7 seconds RetCode: 0 Status: OK PackageFile: miRSM_2.0.2.tar.gz PackageFileSize: 912.1 KiB