Package: miRSM Version: 2.0.2 Command: /Library/Frameworks/R.framework/Resources/bin/R CMD check --install=check:miRSM.install-out.txt --library=/Library/Frameworks/R.framework/Resources/library --no-vignettes --timings miRSM_2.0.2.tar.gz StartedAt: 2024-10-18 04:18:28 -0400 (Fri, 18 Oct 2024) EndedAt: 2024-10-18 04:26:34 -0400 (Fri, 18 Oct 2024) EllapsedTime: 485.3 seconds RetCode: 0 Status: OK CheckDir: miRSM.Rcheck Warnings: 0