Package: miRSM Version: 2.0.0 Command: rm -rf miRSM.buildbin-libdir && mkdir miRSM.buildbin-libdir && /Users/biocbuild/BBS/utils/build-universal.sh miRSM_2.0.0.tar.gz /Library/Frameworks/R.framework/Resources/bin/R miRSM.buildbin-libdir StartedAt: 2024-06-11 12:05:46 -0400 (Tue, 11 Jun 2024) EndedAt: 2024-06-11 12:07:45 -0400 (Tue, 11 Jun 2024) EllapsedTime: 119.0 seconds RetCode: 0 Status: OK PackageFile: miRSM_2.0.0.tgz PackageFileSize: 1.032 MiB