Package: miRSM Version: 2.0.0 Command: rm -rf miRSM.buildbin-libdir && mkdir miRSM.buildbin-libdir && /Users/biocbuild/BBS/utils/build-universal.sh miRSM_2.0.0.tar.gz /Library/Frameworks/R.framework/Resources/bin/R miRSM.buildbin-libdir StartedAt: 2024-06-10 00:27:30 -0400 (Mon, 10 Jun 2024) EndedAt: 2024-06-10 00:28:44 -0400 (Mon, 10 Jun 2024) EllapsedTime: 74.5 seconds RetCode: 0 Status: OK PackageFile: miRSM_2.0.0.tgz PackageFileSize: 1.031 MiB