Package: miRSM Version: 2.0.2 Command: rm -rf miRSM.buildbin-libdir && mkdir miRSM.buildbin-libdir && /Users/biocbuild/BBS/utils/build-universal.sh miRSM_2.0.2.tar.gz /Library/Frameworks/R.framework/Resources/bin/R miRSM.buildbin-libdir StartedAt: 2024-10-17 16:36:51 -0400 (Thu, 17 Oct 2024) EndedAt: 2024-10-17 16:38:55 -0400 (Thu, 17 Oct 2024) EllapsedTime: 124.5 seconds RetCode: 0 Status: OK PackageFile: miRSM_2.0.2.tgz PackageFileSize: 1.031 MiB