Package: miRSM Version: 2.0.2 Command: /Library/Frameworks/R.framework/Resources/bin/R CMD build --keep-empty-dirs --no-resave-data miRSM StartedAt: 2024-10-16 20:59:42 -0400 (Wed, 16 Oct 2024) EndedAt: 2024-10-16 21:04:34 -0400 (Wed, 16 Oct 2024) EllapsedTime: 292.2 seconds RetCode: 0 Status: OK PackageFile: miRSM_2.0.2.tar.gz PackageFileSize: 911.9 KiB