Package: miRSM Version: 2.0.2 Command: /Library/Frameworks/R.framework/Resources/bin/R CMD check --install=check:miRSM.install-out.txt --library=/Library/Frameworks/R.framework/Resources/library --no-vignettes --timings miRSM_2.0.2.tar.gz StartedAt: 2024-10-17 08:51:18 -0400 (Thu, 17 Oct 2024) EndedAt: 2024-10-17 09:09:08 -0400 (Thu, 17 Oct 2024) EllapsedTime: 1069.7 seconds RetCode: 0 Status: OK CheckDir: miRSM.Rcheck Warnings: 0