Package: miRSM Version: 2.0.2 Command: /Library/Frameworks/R.framework/Resources/bin/R CMD INSTALL miRSM StartedAt: 2024-10-16 16:33:29 -0400 (Wed, 16 Oct 2024) EndedAt: 2024-10-16 16:35:24 -0400 (Wed, 16 Oct 2024) EllapsedTime: 115.1 seconds RetCode: 0 Status: OK