Package: miRSM Version: 2.0.2 Command: /home/biocbuild/bbs-3.19-bioc/R/bin/R CMD check --install=check:miRSM.install-out.txt --library=/home/biocbuild/bbs-3.19-bioc/R/site-library --timings miRSM_2.0.2.tar.gz StartedAt: 2024-10-17 02:32:58 -0400 (Thu, 17 Oct 2024) EndedAt: 2024-10-17 02:40:09 -0400 (Thu, 17 Oct 2024) EllapsedTime: 430.8 seconds RetCode: 0 Status: OK CheckDir: miRSM.Rcheck Warnings: 0