Package: miRSM Version: 2.0.2 Command: /home/biocbuild/bbs-3.19-bioc/R/bin/R CMD INSTALL miRSM StartedAt: 2024-10-16 16:37:04 -0400 (Wed, 16 Oct 2024) EndedAt: 2024-10-16 16:37:55 -0400 (Wed, 16 Oct 2024) EllapsedTime: 50.9 seconds RetCode: 0 Status: OK