Package: miRSM Version: 2.0.0 Command: rm -rf miRSM.buildbin-libdir && mkdir miRSM.buildbin-libdir && F:\biocbuild\bbs-3.19-bioc\R\bin\R.exe CMD INSTALL --build --library=miRSM.buildbin-libdir miRSM_2.0.0.tar.gz StartedAt: 2024-06-27 08:31:13 -0400 (Thu, 27 Jun 2024) EndedAt: 2024-06-27 08:32:28 -0400 (Thu, 27 Jun 2024) EllapsedTime: 75.0 seconds RetCode: 0 Status: OK PackageFile: miRSM_2.0.0.zip PackageFileSize: 1.037 MiB