Package: miRSM Version: 2.0.2 Command: rm -rf miRSM.buildbin-libdir && mkdir miRSM.buildbin-libdir && E:\biocbuild\bbs-3.19-bioc\R\bin\R.exe CMD INSTALL --build --library=miRSM.buildbin-libdir miRSM_2.0.2.tar.gz StartedAt: 2024-10-17 08:09:15 -0400 (Thu, 17 Oct 2024) EndedAt: 2024-10-17 08:10:20 -0400 (Thu, 17 Oct 2024) EllapsedTime: 65.5 seconds RetCode: 0 Status: OK PackageFile: miRSM_2.0.2.zip PackageFileSize: 1.037 MiB