Package: miRSM Version: 2.0.2 Command: chmod a+r miRSM -R && E:\biocbuild\bbs-3.19-bioc\R\bin\R.exe CMD build --keep-empty-dirs --no-resave-data miRSM StartedAt: 2024-10-16 20:21:13 -0400 (Wed, 16 Oct 2024) EndedAt: 2024-10-16 20:23:15 -0400 (Wed, 16 Oct 2024) EllapsedTime: 122.0 seconds RetCode: 0 Status: OK PackageFile: miRSM_2.0.2.tar.gz PackageFileSize: 911.6 KiB