Package: miRmine Version: 1.26.0 Command: /Library/Frameworks/R.framework/Resources/bin/R CMD check --install=check:miRmine.install-out.txt --library=/Library/Frameworks/R.framework/Resources/library --no-vignettes --timings miRmine_1.26.0.tar.gz StartedAt: 2024-10-18 04:14:55 -0400 (Fri, 18 Oct 2024) EndedAt: 2024-10-18 04:17:55 -0400 (Fri, 18 Oct 2024) EllapsedTime: 179.5 seconds RetCode: 0 Status: OK CheckDir: miRmine.Rcheck Warnings: 0