Package: miRspongeR Version: 2.8.1 Command: rm -rf miRspongeR.buildbin-libdir && mkdir miRspongeR.buildbin-libdir && /Users/biocbuild/BBS/utils/build-universal.sh miRspongeR_2.8.1.tar.gz /Library/Frameworks/R.framework/Resources/bin/R miRspongeR.buildbin-libdir StartedAt: 2024-10-18 19:28:58 -0400 (Fri, 18 Oct 2024) EndedAt: 2024-10-18 19:29:49 -0400 (Fri, 18 Oct 2024) EllapsedTime: 51.4 seconds RetCode: 0 Status: OK PackageFile: miRspongeR_2.8.1.tgz PackageFileSize: 796 KiB