Package: miRspongeR Version: 2.8.1 Command: /Library/Frameworks/R.framework/Resources/bin/R CMD check --install=check:miRspongeR.install-out.txt --library=/Library/Frameworks/R.framework/Resources/library --no-vignettes --timings miRspongeR_2.8.1.tar.gz StartedAt: 2024-10-17 08:52:38 -0400 (Thu, 17 Oct 2024) EndedAt: 2024-10-17 09:07:48 -0400 (Thu, 17 Oct 2024) EllapsedTime: 909.4 seconds RetCode: 0 Status: OK CheckDir: miRspongeR.Rcheck Warnings: 0