Package: miRspongeR Version: 2.8.1 Command: /home/biocbuild/bbs-3.19-bioc/R/bin/R CMD build --keep-empty-dirs --no-resave-data miRspongeR StartedAt: 2024-10-16 19:31:18 -0400 (Wed, 16 Oct 2024) EndedAt: 2024-10-16 19:36:16 -0400 (Wed, 16 Oct 2024) EllapsedTime: 298.6 seconds RetCode: 0 Status: OK PackageFile: miRspongeR_2.8.1.tar.gz PackageFileSize: 646.4 KiB