Package: miRspongeR Version: 2.8.1 Command: /home/biocbuild/bbs-3.19-bioc/R/bin/R CMD check --install=check:miRspongeR.install-out.txt --library=/home/biocbuild/bbs-3.19-bioc/R/site-library --timings miRspongeR_2.8.1.tar.gz StartedAt: 2024-10-17 02:33:02 -0400 (Thu, 17 Oct 2024) EndedAt: 2024-10-17 02:42:30 -0400 (Thu, 17 Oct 2024) EllapsedTime: 568.1 seconds RetCode: 0 Status: OK CheckDir: miRspongeR.Rcheck Warnings: 0