Package: miRspongeR Version: 2.8.1 Command: rm -rf miRspongeR.buildbin-libdir && mkdir miRspongeR.buildbin-libdir && E:\biocbuild\bbs-3.19-bioc\R\bin\R.exe CMD INSTALL --build --library=miRspongeR.buildbin-libdir miRspongeR_2.8.1.tar.gz StartedAt: 2024-10-17 08:09:16 -0400 (Thu, 17 Oct 2024) EndedAt: 2024-10-17 08:10:03 -0400 (Thu, 17 Oct 2024) EllapsedTime: 46.7 seconds RetCode: 0 Status: OK PackageFile: miRspongeR_2.8.1.zip PackageFileSize: 797.4 KiB