Package: mia Version: 1.12.0 Command: rm -rf mia.buildbin-libdir && mkdir mia.buildbin-libdir && /Users/biocbuild/BBS/utils/build-universal.sh mia_1.12.0.tar.gz /Library/Frameworks/R.framework/Resources/bin/R mia.buildbin-libdir StartedAt: 2024-10-18 19:25:24 -0400 (Fri, 18 Oct 2024) EndedAt: 2024-10-18 19:26:25 -0400 (Fri, 18 Oct 2024) EllapsedTime: 60.9 seconds RetCode: 0 Status: OK PackageFile: mia_1.12.0.tgz PackageFileSize: 2.563 MiB