Package: mia Version: 1.12.0 Command: /Library/Frameworks/R.framework/Resources/bin/R CMD INSTALL mia StartedAt: 2024-06-09 17:18:03 -0400 (Sun, 09 Jun 2024) EndedAt: 2024-06-09 17:19:07 -0400 (Sun, 09 Jun 2024) EllapsedTime: 64.5 seconds RetCode: 0 Status: OK