Package: mia Version: 1.12.0 Command: /Library/Frameworks/R.framework/Resources/bin/R CMD build --keep-empty-dirs --no-resave-data mia StartedAt: 2024-06-09 17:15:10 -0400 (Sun, 09 Jun 2024) EndedAt: 2024-06-09 17:16:51 -0400 (Sun, 09 Jun 2024) EllapsedTime: 101.2 seconds RetCode: 0 Status: OK PackageFile: mia_1.12.0.tar.gz PackageFileSize: 2.071 MiB