Package: mia Version: 1.12.0 Command: F:\biocbuild\bbs-3.19-bioc\R\bin\R.exe CMD INSTALL mia StartedAt: 2024-06-26 16:43:28 -0400 (Wed, 26 Jun 2024) EndedAt: 2024-06-26 16:44:41 -0400 (Wed, 26 Jun 2024) EllapsedTime: 73.0 seconds RetCode: 0 Status: OK