Package: mia Version: 1.12.0 Command: E:\biocbuild\bbs-3.19-bioc\R\bin\R.exe CMD check --no-multiarch --install=check:mia.install-out.txt --library=E:\biocbuild\bbs-3.19-bioc\R\library --no-vignettes --timings mia_1.12.0.tar.gz StartedAt: 2024-10-17 03:16:37 -0400 (Thu, 17 Oct 2024) EndedAt: 2024-10-17 03:40:27 -0400 (Thu, 17 Oct 2024) EllapsedTime: 1430.6 seconds RetCode: 0 Status: OK CheckDir: mia.Rcheck Warnings: 0