Package: miaSim Version: 1.10.0 Command: /Library/Frameworks/R.framework/Resources/bin/R CMD INSTALL miaSim StartedAt: 2024-10-16 17:38:19 -0400 (Wed, 16 Oct 2024) EndedAt: 2024-10-16 17:38:53 -0400 (Wed, 16 Oct 2024) EllapsedTime: 33.9 seconds RetCode: 0 Status: OK