Package: miaSim Version: 1.10.0 Command: /home/biocbuild/bbs-3.19-bioc/R/bin/R CMD build --keep-empty-dirs --no-resave-data miaSim StartedAt: 2024-10-16 19:27:23 -0400 (Wed, 16 Oct 2024) EndedAt: 2024-10-16 19:28:17 -0400 (Wed, 16 Oct 2024) EllapsedTime: 54.1 seconds RetCode: 0 Status: OK PackageFile: miaSim_1.10.0.tar.gz PackageFileSize: 584.7 KiB