Package: miaSim Version: 1.10.0 Command: /home/biocbuild/bbs-3.19-bioc/R/bin/R CMD INSTALL miaSim StartedAt: 2024-10-16 16:24:44 -0400 (Wed, 16 Oct 2024) EndedAt: 2024-10-16 16:25:12 -0400 (Wed, 16 Oct 2024) EllapsedTime: 28.3 seconds RetCode: 0 Status: OK