Package: miaSim Version: 1.10.0 Command: chmod a+r miaSim -R && F:\biocbuild\bbs-3.19-bioc\R\bin\R.exe CMD build --keep-empty-dirs --no-resave-data miaSim StartedAt: 2024-06-26 20:02:28 -0400 (Wed, 26 Jun 2024) EndedAt: 2024-06-26 20:03:38 -0400 (Wed, 26 Jun 2024) EllapsedTime: 69.2 seconds RetCode: 0 Status: OK PackageFile: miaSim_1.10.0.tar.gz PackageFileSize: 329.4 KiB