Package: miaSim Version: 1.10.0 Command: chmod a+r miaSim -R && E:\biocbuild\bbs-3.19-bioc\R\bin\R.exe CMD build --keep-empty-dirs --no-resave-data miaSim StartedAt: 2024-10-16 20:16:59 -0400 (Wed, 16 Oct 2024) EndedAt: 2024-10-16 20:18:08 -0400 (Wed, 16 Oct 2024) EllapsedTime: 69.7 seconds RetCode: 0 Status: OK PackageFile: miaSim_1.10.0.tar.gz PackageFileSize: 325 KiB