Package: microRNA Version: 1.62.0 Maintainer: "James F. Reid" MaintainerEmail: james.reid at ifom-ieo-campus.it git_url: https://git.bioconductor.org/packages/microRNA git_branch: RELEASE_3_19 git_last_commit: f5b4283 git_last_commit_date: 2024-04-30 10:18:45 -0400 (Tue, 30 Apr 2024)