Package: microRNA Version: 1.62.0 Command: /Library/Frameworks/R.framework/Resources/bin/R CMD build --keep-empty-dirs --no-resave-data microRNA StartedAt: 2024-06-10 00:34:55 -0400 (Mon, 10 Jun 2024) EndedAt: 2024-06-10 00:35:01 -0400 (Mon, 10 Jun 2024) EllapsedTime: 5.4 seconds RetCode: 0 Status: OK PackageFile: microRNA_1.62.0.tar.gz PackageFileSize: 5.743 MiB