Package: microbiome Version: 1.26.0 Command: chmod a+r microbiome -R && E:\biocbuild\bbs-3.19-bioc\R\bin\R.exe CMD build --keep-empty-dirs --no-resave-data microbiome StartedAt: 2024-10-16 20:17:20 -0400 (Wed, 16 Oct 2024) EndedAt: 2024-10-16 20:18:16 -0400 (Wed, 16 Oct 2024) EllapsedTime: 56.1 seconds RetCode: 0 Status: OK PackageFile: microbiome_1.26.0.tar.gz PackageFileSize: 714 KiB