Package: microbiomeDASim Version: 1.18.0 Command: /Library/Frameworks/R.framework/Resources/bin/R CMD INSTALL microbiomeDASim StartedAt: 2024-10-16 18:08:37 -0400 (Wed, 16 Oct 2024) EndedAt: 2024-10-16 18:09:01 -0400 (Wed, 16 Oct 2024) EllapsedTime: 23.4 seconds RetCode: 0 Status: OK