Package: microbiomeDASim Version: 1.18.0 Command: rm -rf microbiomeDASim.buildbin-libdir && mkdir microbiomeDASim.buildbin-libdir && /Users/biocbuild/BBS/utils/build-universal.sh microbiomeDASim_1.18.0.tar.gz /Library/Frameworks/R.framework/Resources/bin/R microbiomeDASim.buildbin-libdir StartedAt: 2024-06-11 12:02:45 -0400 (Tue, 11 Jun 2024) EndedAt: 2024-06-11 12:03:27 -0400 (Tue, 11 Jun 2024) EllapsedTime: 41.8 seconds RetCode: 0 Status: OK PackageFile: microbiomeDASim_1.18.0.tgz PackageFileSize: 1.568 MiB