Package: microbiomeDASim Version: 1.18.0 Command: /Library/Frameworks/R.framework/Resources/bin/R CMD INSTALL microbiomeDASim StartedAt: 2024-10-16 16:27:22 -0400 (Wed, 16 Oct 2024) EndedAt: 2024-10-16 16:28:10 -0400 (Wed, 16 Oct 2024) EllapsedTime: 47.4 seconds RetCode: 0 Status: OK