Package: microbiomeDASim Version: 1.18.0 Command: /home/biocbuild/bbs-3.19-bioc/R/bin/R CMD build --keep-empty-dirs --no-resave-data microbiomeDASim StartedAt: 2024-10-16 19:27:35 -0400 (Wed, 16 Oct 2024) EndedAt: 2024-10-16 19:28:17 -0400 (Wed, 16 Oct 2024) EllapsedTime: 42.1 seconds RetCode: 0 Status: OK PackageFile: microbiomeDASim_1.18.0.tar.gz PackageFileSize: 1.492 MiB