Package: microbiomeDASim Version: 1.18.0 Command: /home/biocbuild/bbs-3.19-bioc/R/bin/R CMD INSTALL microbiomeDASim StartedAt: 2024-10-16 16:33:26 -0400 (Wed, 16 Oct 2024) EndedAt: 2024-10-16 16:33:45 -0400 (Wed, 16 Oct 2024) EllapsedTime: 19.2 seconds RetCode: 0 Status: OK