Package: microbiomeDASim Version: 1.18.0 Command: rm -rf microbiomeDASim.buildbin-libdir && mkdir microbiomeDASim.buildbin-libdir && E:\biocbuild\bbs-3.19-bioc\R\bin\R.exe CMD INSTALL --build --library=microbiomeDASim.buildbin-libdir microbiomeDASim_1.18.0.tar.gz StartedAt: 2024-10-17 08:08:10 -0400 (Thu, 17 Oct 2024) EndedAt: 2024-10-17 08:08:52 -0400 (Thu, 17 Oct 2024) EllapsedTime: 42.4 seconds RetCode: 0 Status: OK PackageFile: microbiomeDASim_1.18.0.zip PackageFileSize: 1.563 MiB