Package: microbiomeDASim Version: 1.18.0 Command: chmod a+r microbiomeDASim -R && E:\biocbuild\bbs-3.19-bioc\R\bin\R.exe CMD build --keep-empty-dirs --no-resave-data microbiomeDASim StartedAt: 2024-10-16 20:17:25 -0400 (Wed, 16 Oct 2024) EndedAt: 2024-10-16 20:18:27 -0400 (Wed, 16 Oct 2024) EllapsedTime: 62.3 seconds RetCode: 0 Status: OK PackageFile: microbiomeDASim_1.18.0.tar.gz PackageFileSize: 1.494 MiB