Package: microbiomeDASim Version: 1.18.0 Command: E:\biocbuild\bbs-3.19-bioc\R\bin\R.exe CMD INSTALL microbiomeDASim StartedAt: 2024-10-16 17:05:44 -0400 (Wed, 16 Oct 2024) EndedAt: 2024-10-16 17:06:33 -0400 (Wed, 16 Oct 2024) EllapsedTime: 49.7 seconds RetCode: 0 Status: OK