Package: microbiomeExplorer Version: 1.14.0 Command: rm -rf microbiomeExplorer.buildbin-libdir && mkdir microbiomeExplorer.buildbin-libdir && /Users/biocbuild/BBS/utils/build-universal.sh microbiomeExplorer_1.14.0.tar.gz /Library/Frameworks/R.framework/Resources/bin/R microbiomeExplorer.buildbin-libdir StartedAt: 2024-10-18 19:26:08 -0400 (Fri, 18 Oct 2024) EndedAt: 2024-10-18 19:26:29 -0400 (Fri, 18 Oct 2024) EllapsedTime: 20.5 seconds RetCode: 0 Status: OK PackageFile: microbiomeExplorer_1.14.0.tgz PackageFileSize: 3.411 MiB