Package: microbiomeExplorer Version: 1.14.0 Command: /Library/Frameworks/R.framework/Resources/bin/R CMD check --install=check:microbiomeExplorer.install-out.txt --library=/Library/Frameworks/R.framework/Resources/library --no-vignettes --timings microbiomeExplorer_1.14.0.tar.gz StartedAt: 2024-10-18 03:54:32 -0400 (Fri, 18 Oct 2024) EndedAt: 2024-10-18 03:56:27 -0400 (Fri, 18 Oct 2024) EllapsedTime: 114.2 seconds RetCode: 0 Status: OK CheckDir: microbiomeExplorer.Rcheck Warnings: 0