Package: microbiomeExplorer Version: 1.14.0 Command: /Library/Frameworks/R.framework/Resources/bin/R CMD build --keep-empty-dirs --no-resave-data microbiomeExplorer StartedAt: 2024-10-16 20:52:30 -0400 (Wed, 16 Oct 2024) EndedAt: 2024-10-16 20:54:32 -0400 (Wed, 16 Oct 2024) EllapsedTime: 122.2 seconds RetCode: 0 Status: OK PackageFile: microbiomeExplorer_1.14.0.tar.gz PackageFileSize: 2.976 MiB