Package: microbiomeExplorer Version: 1.14.0 Command: E:\biocbuild\bbs-3.19-bioc\R\bin\R.exe CMD INSTALL microbiomeExplorer StartedAt: 2024-10-16 17:10:02 -0400 (Wed, 16 Oct 2024) EndedAt: 2024-10-16 17:11:52 -0400 (Wed, 16 Oct 2024) EllapsedTime: 110.5 seconds RetCode: 0 Status: OK