Package: midasHLA Version: 1.12.0 Command: /home/biocbuild/R/R-beta-2024-04-15_r86425/bin/R CMD build --keep-empty-dirs --no-resave-data midasHLA StartedAt: 2024-05-09 01:39:08 -0000 (Thu, 09 May 2024) EndedAt: 2024-05-09 01:42:15 -0000 (Thu, 09 May 2024) EllapsedTime: 187.2 seconds RetCode: 0 Status: OK PackageFile: midasHLA_1.12.0.tar.gz PackageFileSize: 1.866 MiB