Package: midasHLA Version: 1.12.0 Command: /Library/Frameworks/R.framework/Resources/bin/R CMD build --keep-empty-dirs --no-resave-data midasHLA StartedAt: 2024-10-16 20:54:02 -0400 (Wed, 16 Oct 2024) EndedAt: 2024-10-16 21:00:28 -0400 (Wed, 16 Oct 2024) EllapsedTime: 386.2 seconds RetCode: 0 Status: OK PackageFile: midasHLA_1.12.0.tar.gz PackageFileSize: 1.895 MiB